BEGIN:VCALENDAR
VERSION:2.0
PRODID:icalendar-ruby
CALSCALE:GREGORIAN
METHOD:PUBLISH
BEGIN:VEVENT
DTSTAMP:20260423T182545Z
UID:90-2053@agbcmountairy.com
DTSTART:20260422T220000Z
DTEND:20260501T020000Z
CLASS:PUBLIC
CREATED:20260422T175456
DESCRIPTION:
LAST-MODIFIED:20260422T175456
LOCATION:
SUMMARY:April Writing Plan
URL;VALUE=URI:https://www.agbcmountairy.com/events/april-writing-plan--90/2
 026-04-22
ATTACH;FILENAME=Screenshot-2026-04-22-at-5.54.31PM.png;FMTTYPE=image/png:ht
 tps://dq5pwpg1q8ru0.cloudfront.net/2026/04/22/21/54/56/57c85073-5140-4731-
 bce7-ac3160c9d702/Screenshot-2026-04-22-at-5.54.31PM.png
ATTACH;FILENAME=Screenshot 2026-03-23 at 8.28.47 AM.png;FMTTYPE=image/png
 :https://dq5pwpg1q8ru0.cloudfront.net/2026/04/22/21/54/56/e704ad13-f576-4a
 17-8b99-d0329a3c4c5f/Screenshot%202026-03-23%20at%208.28.47%E2%80%AFAM.png
END:VEVENT
END:VCALENDAR
